BEGIN:VCALENDAR
VERSION:2.0
PRODID:-//https://amalfi.discovercampania.com///NONSGML kigkonsult.se iCalcreator 2.10.15//
METHOD:PUBLISH
BEGIN:VEVENT
UID:20260420T141313CEST-4601WF9Vtl@https://amalfi.discovercampania.com/
DTSTAMP:20260420T121313Z
DESCRIPTION: https://amalfi.discovercampania.com/en/eventi/event/1567-a-nap
 oli-maria-maddalena
DTSTART:20250412T183000Z
DTEND:20250412T203000Z
LOCATION:Via Santa Chiara\, 10\, 80134 Napoli NA\, Italia (Via Santa Chiara
 \, 10\, 80134 Napoli NA\, Italia)
SUMMARY:A Napoli 'Maria Maddalena' 
URL:https://amalfi.discovercampania.com/en/eventi/event/1567-a-napoli-maria
 -maddalena
END:VEVENT
END:VCALENDAR
