BEGIN:VCALENDAR
VERSION:2.0
PRODID:-//https://amalfi.discovercampania.com///NONSGML kigkonsult.se iCalcreator 2.10.15//
METHOD:PUBLISH
BEGIN:VEVENT
UID:20260420T141244CEST-0483TTAXcO@https://amalfi.discovercampania.com/
DTSTAMP:20260420T121244Z
DESCRIPTION: https://amalfi.discovercampania.com/en/eventi/event/1569-jazz-
 a-pietrarsa
DTSTART:20250413T163000Z
DTEND:20250413T183000Z
LOCATION:Via Pietrarsa\, snc\, 80146 Napoli NA\, Italia (Via Pietrarsa\, sn
 c\, 80146 Napoli NA\, Italia)
SUMMARY:Jazz a Pietrarsa
URL:https://amalfi.discovercampania.com/en/eventi/event/1569-jazz-a-pietrar
 sa
END:VEVENT
END:VCALENDAR
