BEGIN:VCALENDAR
VERSION:2.0
PRODID:-//https://amalfi.discovercampania.com///NONSGML kigkonsult.se iCalcreator 2.10.15//
METHOD:PUBLISH
BEGIN:VEVENT
UID:20260420T180228CEST-0317vXx3CS@https://amalfi.discovercampania.com/
DTSTAMP:20260420T160228Z
DESCRIPTION:Tre giorni interamente dedicati alle tradizioni popolari a Perd
 ifumo\, nel cuore del Cilento\, a cura della pro loco. Da venerdì 13 a dom
 enica 15 tra intense giornate di laboratori\, balli tradizionali\, musica 
 dal vivo e concerti\, escursioni e tanto divertimento\, senza trascurare l
 'enogastronomia locale con i rinomati prodotti del territorio. https://ama
 lfi.discovercampania.com/eventi/Evento/1602-perditrad-festival-della-cultu
 ra-popolare-a-perdifumo
DTSTART:20250613T140000Z
DTEND:20250615T215500Z
LOCATION:Perdifumo (SA) (Piazza del Municipio\, 1\, 84060 Perdifumo SA\, It
 alia)
SUMMARY:Perditrad\, Festival della Cultura Popolare a Perdifumo
URL:https://amalfi.discovercampania.com/eventi/Evento/1602-perditrad-festiv
 al-della-cultura-popolare-a-perdifumo
END:VEVENT
END:VCALENDAR
