BEGIN:VCALENDAR
VERSION:2.0
PRODID:-//https://amalfi.discovercampania.com///NONSGML kigkonsult.se iCalcreator 2.10.15//
METHOD:PUBLISH
BEGIN:VEVENT
UID:20260420T175136CEST-3298u11cSJ@https://amalfi.discovercampania.com/
DTSTAMP:20260420T155136Z
DESCRIPTION:Domenica 12 ottobre 'Pe' sentieri e vvicarielle'\, tour fotogra
 fico di Monte di Procida e dintorni\, con partenza alle ore 10.30 (nei pre
 ssi dello chalet Albachiara in via Panoramica) con la partecipazione di un
 dici fotografi\, che catturerano nei loro scatti le particolarità naturali
  e culturali del territorio montese con i suoi famosi belvedere sui Campi 
 Flegrei e del centro storico della cittadina. L'iniziativa è oirganizzata 
 dall'associazione culturale Projecta con Dialogos Aps\, dalla Pro loco Mon
 te di Procida\, dall'Associazione Guide Flegree\, con il patrocinio del Co
 mune della cittadina.&nbsp\; https://amalfi.discovercampania.com/eventi/Ev
 ento/1636-tour-fotografico-a-monte-di-procida
DTSTART:20251012T083000Z
DTEND:20251012T183500Z
LOCATION:80070 Monte di Procida NA\, Italia (80070 Monte di Procida NA\, It
 alia)
SUMMARY:Tour fotografico a Monte di Procida
URL:https://amalfi.discovercampania.com/eventi/Evento/1636-tour-fotografico
 -a-monte-di-procida
END:VEVENT
END:VCALENDAR
