BEGIN:VCALENDAR
VERSION:2.0
PRODID:-//https://amalfi.discovercampania.com///NONSGML kigkonsult.se iCalcreator 2.10.15//
METHOD:PUBLISH
BEGIN:VEVENT
UID:20260420T155522CEST-4910uAA8WP@https://amalfi.discovercampania.com/
DTSTAMP:20260420T135522Z
DESCRIPTION:Ancora prima dell'alba\, nelle prime ore del Venerdì Santo\, a 
 partire dalle 3.00\, le strade del centro di Sorrento saranno percorse dag
 li incappucciati dell'Arciconfraternita di Santa Monica\, protagonisti del
 la coinvolgente Processione Bianca. Quando sarà di nuovo buio\, a partire 
 dalle 20.30\, nel centro cittadino muoverà la solenne Processione Nera con
  gli incappucciati dell'Arciconfraternita della Morte.&nbsp\; https://amal
 fi.discovercampania.com/eventi/Evento/1658-le-processioni-del-venerdi-sant
 o-a-sorrento
DTSTART:20260403T010000Z
DTEND:20260403T214000Z
LOCATION:80067 Sorrento NA\, Italia (80067 Sorrento NA\, Italia)
SUMMARY:Le Processioni del Venerdì Santo a Sorrento
URL:https://amalfi.discovercampania.com/eventi/Evento/1658-le-processioni-d
 el-venerdi-santo-a-sorrento
END:VEVENT
END:VCALENDAR
